BEGIN:VCALENDAR
VERSION:2.0
PRODID:-//TEAMSTERS 58 - ECPv6.15.20//NONSGML v1.0//EN
CALSCALE:GREGORIAN
METHOD:PUBLISH
X-WR-CALNAME:TEAMSTERS 58
X-ORIGINAL-URL:https://teamsters58.com
X-WR-CALDESC:Events for TEAMSTERS 58
REFRESH-INTERVAL;VALUE=DURATION:PT1H
X-Robots-Tag:noindex
X-PUBLISHED-TTL:PT1H
BEGIN:VTIMEZONE
TZID:America/Los_Angeles
BEGIN:DAYLIGHT
TZOFFSETFROM:-0800
TZOFFSETTO:-0700
TZNAME:PDT
DTSTART:20250309T100000
END:DAYLIGHT
BEGIN:STANDARD
TZOFFSETFROM:-0700
TZOFFSETTO:-0800
TZNAME:PST
DTSTART:20251102T090000
END:STANDARD
BEGIN:DAYLIGHT
TZOFFSETFROM:-0800
TZOFFSETTO:-0700
TZNAME:PDT
DTSTART:20260308T100000
END:DAYLIGHT
BEGIN:STANDARD
TZOFFSETFROM:-0700
TZOFFSETTO:-0800
TZNAME:PST
DTSTART:20261101T090000
END:STANDARD
BEGIN:DAYLIGHT
TZOFFSETFROM:-0800
TZOFFSETTO:-0700
TZNAME:PDT
DTSTART:20270314T100000
END:DAYLIGHT
BEGIN:STANDARD
TZOFFSETFROM:-0700
TZOFFSETTO:-0800
TZNAME:PST
DTSTART:20271107T090000
END:STANDARD
END:VTIMEZONE
BEGIN:VEVENT
DTSTART;VALUE=DATE:20260617
DTEND;VALUE=DATE:20260618
DTSTAMP:20260419T081853
CREATED:20260126T224742Z
LAST-MODIFIED:20260126T224742Z
UID:3225-1781654400-1781740799@teamsters58.com
SUMMARY:Astoria and Tillamook Vicinities Quarterly Membership Meetings (copy) (copy)
DESCRIPTION:Times – To Be Announced
URL:https://teamsters58.com/event/regular-monthly-membership-meeting-astoria-quarterly-membership-meetings-2026-3-2-2/
LOCATION:Tillamook County Fairgrounds (4-H Dorm)\, 4603 3rd Street\, Tillamook\, OR\, 97141\, United States
CATEGORIES:Meetings,Regular Quarterly Membership Meetings
END:VEVENT
BEGIN:VEVENT
DTSTART;TZID=America/Los_Angeles:20260617T170000
DTEND;TZID=America/Los_Angeles:20260617T180000
DTSTAMP:20260419T081853
CREATED:20251210T194223Z
LAST-MODIFIED:20251210T194333Z
UID:3147-1781715600-1781719200@teamsters58.com
SUMMARY:Astoria and Tillamook Vicinities Quarterly Membership Meetings
DESCRIPTION:Times – To Be Announced
URL:https://teamsters58.com/event/regular-monthly-membership-meeting-astoria-quarterly-membership-meetings-2026-2/
LOCATION:Tillamook County Fairgrounds (4-H Dorm)\, 4603 3rd Street\, Tillamook\, OR\, 97141\, United States
CATEGORIES:Meetings,Regular Quarterly Membership Meetings
END:VEVENT
BEGIN:VEVENT
DTSTART;VALUE=DATE:20260618
DTEND;VALUE=DATE:20260619
DTSTAMP:20260419T081853
CREATED:20260126T224826Z
LAST-MODIFIED:20260126T224826Z
UID:3228-1781740800-1781827199@teamsters58.com
SUMMARY:Astoria and Tillamook Vicinities Quarterly Membership Meetings
DESCRIPTION:Times – To Be Announced
URL:https://teamsters58.com/event/regular-monthly-membership-meeting-astoria-quarterly-membership-meetings-2026-3-2-2-2/
LOCATION:Astoria Labor Temple – Upstairs Meeting Auditorium\, 934 Duane Street\, Astoria\, OR\, 97103\, United States
CATEGORIES:Meetings,Regular Quarterly Membership Meetings
END:VEVENT
BEGIN:VEVENT
DTSTART;TZID=America/Los_Angeles:20260618T170000
DTEND;TZID=America/Los_Angeles:20260618T180000
DTSTAMP:20260419T081853
CREATED:20251210T194404Z
LAST-MODIFIED:20251210T194404Z
UID:3151-1781802000-1781805600@teamsters58.com
SUMMARY:Astoria and Tillamook Vicinities Quarterly Membership Meetings
DESCRIPTION:Times – To Be Announced
URL:https://teamsters58.com/event/regular-monthly-membership-meeting-astoria-quarterly-membership-meetings-2026-2-2/
LOCATION:Astoria Labor Temple – Upstairs Meeting Auditorium\, 934 Duane Street\, Astoria\, OR\, 97103\, United States
CATEGORIES:Meetings,Regular Quarterly Membership Meetings
END:VEVENT
BEGIN:VEVENT
DTSTART;VALUE=DATE:20260916
DTEND;VALUE=DATE:20260917
DTSTAMP:20260419T081853
CREATED:20251210T194452Z
LAST-MODIFIED:20260126T225555Z
UID:3154-1789516800-1789603199@teamsters58.com
SUMMARY:Astoria and Tillamook Vicinities Quarterly Membership Meetings
DESCRIPTION:Times – To Be Announced
URL:https://teamsters58.com/event/regular-monthly-membership-meeting-astoria-quarterly-membership-meetings-2026-2-2-2/
LOCATION:Tillamook County Fairgrounds (4-H Dorm)\, 4603 3rd Street\, Tillamook\, OR\, 97141\, United States
CATEGORIES:Meetings,Regular Quarterly Membership Meetings
END:VEVENT
BEGIN:VEVENT
DTSTART;VALUE=DATE:20260917
DTEND;VALUE=DATE:20260918
DTSTAMP:20260419T081853
CREATED:20251210T194520Z
LAST-MODIFIED:20260126T225429Z
UID:3157-1789603200-1789689599@teamsters58.com
SUMMARY:Astoria and Tillamook Vicinities Quarterly Membership Meetings
DESCRIPTION:Times – To Be Announced
URL:https://teamsters58.com/event/regular-monthly-membership-meeting-astoria-quarterly-membership-meetings-2026-2-2-2-2/
LOCATION:Astoria Labor Temple – Upstairs Meeting Auditorium\, 934 Duane Street\, Astoria\, OR\, 97103\, United States
CATEGORIES:Meetings,Regular Quarterly Membership Meetings
END:VEVENT
BEGIN:VEVENT
DTSTART;VALUE=DATE:20261216
DTEND;VALUE=DATE:20261217
DTSTAMP:20260419T081853
CREATED:20251210T194603Z
LAST-MODIFIED:20260126T225645Z
UID:3160-1797379200-1797465599@teamsters58.com
SUMMARY:Astoria and Tillamook Vicinities Quarterly Membership Meetings
DESCRIPTION:Times – To Be Announced
URL:https://teamsters58.com/event/regular-monthly-membership-meeting-astoria-quarterly-membership-meetings-2026-2-2-2-2-2/
LOCATION:Tillamook County Fairgrounds (4-H Dorm)\, 4603 3rd Street\, Tillamook\, OR\, 97141\, United States
CATEGORIES:Meetings,Regular Quarterly Membership Meetings
END:VEVENT
BEGIN:VEVENT
DTSTART;VALUE=DATE:20261217
DTEND;VALUE=DATE:20261218
DTSTAMP:20260419T081853
CREATED:20251210T194648Z
LAST-MODIFIED:20260126T225725Z
UID:3163-1797465600-1797551999@teamsters58.com
SUMMARY:Astoria and Tillamook Vicinities Quarterly Membership Meetings
DESCRIPTION:Times – To Be Announced
URL:https://teamsters58.com/event/regular-monthly-membership-meeting-astoria-quarterly-membership-meetings-2026-2-2-2-2-2-2/
LOCATION:Astoria Labor Temple – Upstairs Meeting Auditorium\, 934 Duane Street\, Astoria\, OR\, 97103\, United States
CATEGORIES:Meetings,Regular Quarterly Membership Meetings
END:VEVENT
END:VCALENDAR